BEGIN:VCALENDAR
VERSION:2.0
PRODID:-//Centar za kulturu Vlada Divljan - ECPv6.15.20//NONSGML v1.0//EN
CALSCALE:GREGORIAN
METHOD:PUBLISH
X-WR-CALNAME:Centar za kulturu Vlada Divljan
X-ORIGINAL-URL:https://ckvladadivljan.rs/wp
X-WR-CALDESC:Events for Centar za kulturu Vlada Divljan
REFRESH-INTERVAL;VALUE=DURATION:PT1H
X-Robots-Tag:noindex
X-PUBLISHED-TTL:PT1H
BEGIN:VTIMEZONE
TZID:UTC
BEGIN:STANDARD
TZOFFSETFROM:+0000
TZOFFSETTO:+0000
TZNAME:UTC
DTSTART:20230101T000000
END:STANDARD
END:VTIMEZONE
BEGIN:VEVENT
DTSTART;TZID=UTC:20241226T200000
DTEND;TZID=UTC:20241226T220000
DTSTAMP:20260424T113952
CREATED:20241224T224845Z
LAST-MODIFIED:20241224T224845Z
UID:2358-1735243200-1735250400@ckvladadivljan.rs
SUMMARY:Koncert BETI ĐORĐEVIĆ
DESCRIPTION:26.12.2024.godine\, od 20:00 časova\, u Centru za kulturu „Vlada Divljan“\, možete uživati u koncertu legendarne Beti Đorđević.\nPozivamo vas na spektakularni Novogodišnji koncert\, pod nazivom “Potraži me u predgrađu“. Uživajmo uz najpoznatije evergrin\, džez i sving hitove. Zapevajmo pesme koje odolevaju vremenu\, zapevajmo pesme koje znamo! \nKoncert pod sloganom „Ime mi je ljubav“\, održaće se u četvrtak 26.12.2024.godine\, sa početkom od 20:00 časova. \nKarte po ceni od 600\,00 dinara mogu se kupiti ZA PARTER preko prodajne mreže https://tickets.rs/event/beti_dordevic_16416\nZa BALKON na blagajni Centra za kulturu“Vlada Divljan“ \nVaš Centar za kulturu“Vlada Divljan“ \nDobrodošli ! \n26.12.2024. godine u 20 časova!
URL:https://ckvladadivljan.rs/wp/event/koncert-beti-djordjevic/
ATTACH;FMTTYPE=image/jpeg:https://ckvladadivljan.rs/wp/wp-content/uploads/2024/12/beti_novi_plakat.jpg
END:VEVENT
END:VCALENDAR