BEGIN:VCALENDAR
VERSION:2.0
PRODID:-//Centar za kulturu Vlada Divljan - ECPv6.15.20//NONSGML v1.0//EN
CALSCALE:GREGORIAN
METHOD:PUBLISH
X-WR-CALNAME:Centar za kulturu Vlada Divljan
X-ORIGINAL-URL:https://ckvladadivljan.rs/wp
X-WR-CALDESC:Events for Centar za kulturu Vlada Divljan
REFRESH-INTERVAL;VALUE=DURATION:PT1H
X-Robots-Tag:noindex
X-PUBLISHED-TTL:PT1H
BEGIN:VTIMEZONE
TZID:UTC
BEGIN:STANDARD
TZOFFSETFROM:+0000
TZOFFSETTO:+0000
TZNAME:UTC
DTSTART:20240101T000000
END:STANDARD
END:VTIMEZONE
BEGIN:VEVENT
DTSTART;TZID=UTC:20250125T170000
DTEND;TZID=UTC:20250126T183000
DTSTAMP:20260424T100932
CREATED:20250121T205618Z
LAST-MODIFIED:20250121T205713Z
UID:2474-1737824400-1737916200@ckvladadivljan.rs
SUMMARY:Crtani film "Deset života"
DESCRIPTION:25. i 26. januara 2025. godine\, u Centru za kulturu „Vlada Divljan“ sa početkom od 17 časova možete pogledati crtani film „10 života „.\nŽanr: Кomedija\, Animirani\, Porodični film\nRežiser: Christopher Jenkins\, Mark Кoetsier\nDužina trajanja: 1h28’\nUloge: Simone Ashley\, Sophie Okonedo\, Zayn Malik\, Mo Gilligan\, Dylan Llewellyn\nDržava/Godina: SAD/2024\nDistribucija: Taramount \nAnimirani film o razmaženom mačku koji olako shvata srećne okolnosti u kojima se našao nakon što ga je spasila i zavolela Rouz\, predana učenica mekog srca. Кada je izgubio i deveti život\, sudbina se umešala i mačak kreće na putovanje koje će ga u potpunosti promeniti. \nCena karte 300 rsd \nDobrodošli! \nVaš Centar za kulturu „Vlada Divljan“. \n25. i 26. januar 2025.godine\n17 časova\n300 rsd\nMitropolita Petra 8
URL:https://ckvladadivljan.rs/wp/event/crtani-film-deset-zivota/
ATTACH;FMTTYPE=image/jpeg:https://ckvladadivljan.rs/wp/wp-content/uploads/2025/01/fb_img_1737370793326.jpg
END:VEVENT
END:VCALENDAR