BEGIN:VCALENDAR
VERSION:2.0
PRODID:-//Centar za kulturu Vlada Divljan - ECPv6.15.20//NONSGML v1.0//EN
CALSCALE:GREGORIAN
METHOD:PUBLISH
X-WR-CALNAME:Centar za kulturu Vlada Divljan
X-ORIGINAL-URL:https://ckvladadivljan.rs/wp
X-WR-CALDESC:Events for Centar za kulturu Vlada Divljan
REFRESH-INTERVAL;VALUE=DURATION:PT1H
X-Robots-Tag:noindex
X-PUBLISHED-TTL:PT1H
BEGIN:VTIMEZONE
TZID:UTC
BEGIN:STANDARD
TZOFFSETFROM:+0000
TZOFFSETTO:+0000
TZNAME:UTC
DTSTART:20240101T000000
END:STANDARD
END:VTIMEZONE
BEGIN:VEVENT
DTSTART;TZID=UTC:20250918T080000
DTEND;TZID=UTC:20251215T170000
DTSTAMP:20260423T205600
CREATED:20251012T212432Z
LAST-MODIFIED:20251012T212432Z
UID:2923-1758182400-1765818000@ckvladadivljan.rs
SUMMARY:Izložba „MARILYN“
DESCRIPTION:Trajanje izložbe: 18.09 – 15.12.2025.\nCentar za kulturu „Vlada Divljan“\nVlasnik kolekcije: Nebojša Bošnjak \nU Centru za kulturu „Vlada Divljan“ otvara se jedinstvena izložba posvećena Marilin Monro – ikoni lepote\, stila i filma.\nNa izložbi ćete moći da vidite deo bogate kolekcije fotografija\, plakata i slika iz celog sveta.\nSvoje radove izlažu umetnici iz Holandije\, Francuske i Srbije\, a među autorima fotografija i plakata su Bert Sterna\, Tom Kelly\, Otto Bettmann\, Geleng\, Grennsson i Bourdouge. \nDođite i otkrijte magiju „MARILYN“ – zvezde koja i danas inspiriše umetnike i publiku širom sveta! \nVaš\nCentar za kulturu „Vlada Divljan“
URL:https://ckvladadivljan.rs/wp/event/izlozba-marilyn/
ATTACH;FMTTYPE=image/jpeg:https://ckvladadivljan.rs/wp/wp-content/uploads/2025/10/plakat-PRINT.jpg
END:VEVENT
BEGIN:VEVENT
DTSTART;TZID=UTC:20250927T090000
DTEND;TZID=UTC:20250927T193000
DTSTAMP:20260423T205600
CREATED:20251003T144837Z
LAST-MODIFIED:20251003T144955Z
UID:2874-1758963600-1759001400@ckvladadivljan.rs
SUMMARY:EGZOTIKARS
DESCRIPTION:Egzotika RS izložba malih kućnih ljubimaca je interaktivna izložba edukativnog karaktera\, tu se možete upoznati sa egzotičnim životinjskim svetom poreklom sa različitih kontinenata\, kako se drže i gaje u kućnim uslovima\, koje su njihove potrebe. Takođe će biti i potrebna oprema \, hrana i suplementi koji su potrebni za pravilno i zdravo držanje ovakvih ljubimaca. \nDođite da se družite sa nama u subotu 27.09.2025. u CK “ Vlada Divljan“ od 09 – 19:30
URL:https://ckvladadivljan.rs/wp/event/egzotikars/
ATTACH;FMTTYPE=image/jpeg:https://ckvladadivljan.rs/wp/wp-content/uploads/2025/09/1000026954.jpg
END:VEVENT
BEGIN:VEVENT
DTSTART;TZID=UTC:20250927T200000
DTEND;TZID=UTC:20250927T220000
DTSTAMP:20260423T205600
CREATED:20251003T145304Z
LAST-MODIFIED:20251003T145304Z
UID:2877-1759003200-1759010400@ckvladadivljan.rs
SUMMARY:Predstava “ Žena moga muža“
DESCRIPTION:Predstava “ Žena moga muža“ održaće se 27.09.2025.god. u 20 časova. \nPodela karata će se vršiti 25.09 .i 26.09. od 10 do 16 časova. \n„Žena moga muža“- Saše Pantića nastala je kao pandan u samoj estetici američkim romantičnim komedijama koje u sebi nose slatko gorke muke koje se u ovim izvedbama prevazilaze komičnom dramskom radnjom i podražavaju likove u svojim radnjama . Bračni trougao\, prevara naočigled društva \, dve žene i jedan stjuart koji je u regularnom braku sa obe čine „savršen brak“ sa dve žene u isto vreme na relaciji Beograd – Tivat. Da li je ovde kraj ženskim mukama? Da li se iza ova dva braka krije muškarac koji je spreman da voli i živi višestruko? Da li će biti prihvaćen od strane društva\, ženske populacije i svojih žena? Odgovore na sva navedena pitanja daće dramatičan zaplet i u scenskoj formi prosuditi ovom fenomenološkom slučaju zvanom muškarac . Osnovni motiv za ovaj tekst su bila pitanja muškaraca u savremenom svetu i da li je njima zaista lako da se nose sa ženskom energijom.
URL:https://ckvladadivljan.rs/wp/event/predstava-zena-moga-muza/
ATTACH;FMTTYPE=image/jpeg:https://ckvladadivljan.rs/wp/wp-content/uploads/2025/09/unnamed-1-scaled.jpg
END:VEVENT
END:VCALENDAR