BEGIN:VCALENDAR
VERSION:2.0
PRODID:-//Centar za kulturu Vlada Divljan - ECPv6.15.20//NONSGML v1.0//EN
CALSCALE:GREGORIAN
METHOD:PUBLISH
X-ORIGINAL-URL:https://ckvladadivljan.rs/wp
X-WR-CALDESC:Events for Centar za kulturu Vlada Divljan
REFRESH-INTERVAL;VALUE=DURATION:PT1H
X-Robots-Tag:noindex
X-PUBLISHED-TTL:PT1H
BEGIN:VTIMEZONE
TZID:UTC
BEGIN:STANDARD
TZOFFSETFROM:+0000
TZOFFSETTO:+0000
TZNAME:UTC
DTSTART:20240101T000000
END:STANDARD
END:VTIMEZONE
BEGIN:VEVENT
DTSTART;TZID=UTC:20250918T080000
DTEND;TZID=UTC:20251215T170000
DTSTAMP:20260423T174540
CREATED:20251012T212432Z
LAST-MODIFIED:20251012T212432Z
UID:2923-1758182400-1765818000@ckvladadivljan.rs
SUMMARY:Izložba „MARILYN“
DESCRIPTION:Trajanje izložbe: 18.09 – 15.12.2025.\nCentar za kulturu „Vlada Divljan“\nVlasnik kolekcije: Nebojša Bošnjak \nU Centru za kulturu „Vlada Divljan“ otvara se jedinstvena izložba posvećena Marilin Monro – ikoni lepote\, stila i filma.\nNa izložbi ćete moći da vidite deo bogate kolekcije fotografija\, plakata i slika iz celog sveta.\nSvoje radove izlažu umetnici iz Holandije\, Francuske i Srbije\, a među autorima fotografija i plakata su Bert Sterna\, Tom Kelly\, Otto Bettmann\, Geleng\, Grennsson i Bourdouge. \nDođite i otkrijte magiju „MARILYN“ – zvezde koja i danas inspiriše umetnike i publiku širom sveta! \nVaš\nCentar za kulturu „Vlada Divljan“
URL:https://ckvladadivljan.rs/wp/event/izlozba-marilyn/
ATTACH;FMTTYPE=image/jpeg:https://ckvladadivljan.rs/wp/wp-content/uploads/2025/10/plakat-PRINT.jpg
END:VEVENT
BEGIN:VEVENT
DTSTART;TZID=UTC:20251129T120000
DTEND;TZID=UTC:20251129T143000
DTSTAMP:20260423T174540
CREATED:20251126T202046Z
LAST-MODIFIED:20251126T202046Z
UID:3222-1764417600-1764426600@ckvladadivljan.rs
SUMMARY:VESELI MORNARI – PREDSTAVA ZA DECU
DESCRIPTION:novembar u 12:00\n\nPodela besplatnih karata: 27. i 28.11. od 10:00–18:00 na biletarnici Centra. \nAnina obična igra pretvara se u veliku avanturu kada otkrije prašnjavu bocu i nađe se u magičnom svetu punom mora\, broda i veselih mornara. Tu upoznaje Tršy\, Mršy i leptira Miću\, koje je zatvorio usamljeni Troglavi zmaj. \nZajedno otkrivaju da zmaj nije strašan\, već samo tužan i željan društva — a avantura se završava novim prijateljstvom i izlaskom iz boce. \nPredstava uči decu o ljubavi\, prijateljstvu i prihvatanju različitosti. \nZa uzrast 2–10 godina.
URL:https://ckvladadivljan.rs/wp/event/veseli-mornari-predstava-za-decu/
ATTACH;FMTTYPE=image/jpeg:https://ckvladadivljan.rs/wp/wp-content/uploads/2025/11/Screenshot_20251119_154954_PDF-Reader.jpg
END:VEVENT
BEGIN:VEVENT
DTSTART;TZID=UTC:20251129T190000
DTEND;TZID=UTC:20251129T210000
DTSTAMP:20260423T174540
CREATED:20251124T185346Z
LAST-MODIFIED:20251124T185346Z
UID:3212-1764442800-1764450000@ckvladadivljan.rs
SUMMARY:Film „Stolarev sin”
DESCRIPTION:Prikazivanje 29.11.2025 u 19:00 \nCena karte 400 rsd. \nFilm „Stolarev sin” je mračni psihološki horor smešten u rimski Egipat\, koji prati dečaka sa neobjašnjivim i zastrašujućim moćima. Njegova porodica pokušava da ga zaštiti i sakrije od sveta\, ali kako njegove sposobnosti postaju sve jače\, oni se suočavaju sa nizom prirodnih i božanskih užasa koji prete da ih razdvoje. \nU glavnim ulogama su Nicolas Cage\, Noah Jupe i Souheila Yacoub\, dok režiju i scenario potpisuje Lotfy Nathan.
URL:https://ckvladadivljan.rs/wp/event/film-stolarev-sin/
ATTACH;FMTTYPE=image/jpeg:https://ckvladadivljan.rs/wp/wp-content/uploads/2025/11/b0fa88a0cca15.jpg
END:VEVENT
END:VCALENDAR