BEGIN:VCALENDAR
VERSION:2.0
PRODID:-//Centar za kulturu Vlada Divljan - ECPv6.15.20//NONSGML v1.0//EN
CALSCALE:GREGORIAN
METHOD:PUBLISH
X-ORIGINAL-URL:https://ckvladadivljan.rs/wp
X-WR-CALDESC:Events for Centar za kulturu Vlada Divljan
REFRESH-INTERVAL;VALUE=DURATION:PT1H
X-Robots-Tag:noindex
X-PUBLISHED-TTL:PT1H
BEGIN:VTIMEZONE
TZID:UTC
BEGIN:STANDARD
TZOFFSETFROM:+0000
TZOFFSETTO:+0000
TZNAME:UTC
DTSTART:20240101T000000
END:STANDARD
END:VTIMEZONE
BEGIN:VEVENT
DTSTART;TZID=UTC:20250918T080000
DTEND;TZID=UTC:20251215T170000
DTSTAMP:20260423T154711
CREATED:20251012T212432Z
LAST-MODIFIED:20251012T212432Z
UID:2923-1758182400-1765818000@ckvladadivljan.rs
SUMMARY:Izložba „MARILYN“
DESCRIPTION:Trajanje izložbe: 18.09 – 15.12.2025.\nCentar za kulturu „Vlada Divljan“\nVlasnik kolekcije: Nebojša Bošnjak \nU Centru za kulturu „Vlada Divljan“ otvara se jedinstvena izložba posvećena Marilin Monro – ikoni lepote\, stila i filma.\nNa izložbi ćete moći da vidite deo bogate kolekcije fotografija\, plakata i slika iz celog sveta.\nSvoje radove izlažu umetnici iz Holandije\, Francuske i Srbije\, a među autorima fotografija i plakata su Bert Sterna\, Tom Kelly\, Otto Bettmann\, Geleng\, Grennsson i Bourdouge. \nDođite i otkrijte magiju „MARILYN“ – zvezde koja i danas inspiriše umetnike i publiku širom sveta! \nVaš\nCentar za kulturu „Vlada Divljan“
URL:https://ckvladadivljan.rs/wp/event/izlozba-marilyn/
ATTACH;FMTTYPE=image/jpeg:https://ckvladadivljan.rs/wp/wp-content/uploads/2025/10/plakat-PRINT.jpg
END:VEVENT
BEGIN:VEVENT
DTSTART;TZID=UTC:20251201T120000
DTEND;TZID=UTC:20251201T140000
DTSTAMP:20260423T154711
CREATED:20251127T220255Z
LAST-MODIFIED:20251127T220255Z
UID:3231-1764590400-1764597600@ckvladadivljan.rs
SUMMARY:Komad “Svadbena zvona”
DESCRIPTION:Igranje 01.12.2025 u 20:00\nPodela besplatnih karata 28.11. na biletarnici Centra od 10:00 do 18:00 \nKomad “Svadbena zvona”\, Davora Špišića\, prati priču o troje usamljenika\, društvenih marginalaca koji se ne snalaze u predatorskom bezdušnom vremenu. Vremenu u kojem je ljudskost postala više mana no vrlina. Osim što pokušavaju preživeti sa što manje ožiljaka\, oni ne odustaju u traženju srodne duše. Samoća nije njihov izbor\, nego realnost ranjivih emocija. “Svadbena zvona” imaju žanrovsku kombinaciju komedije i melodrame. Niz smešnih i burlesknih situacija nastaje iz žarke želje da se privid normalnosti održi a na stalnom je udaru represivnog i podozrivog aparata. Svo troje\, u toj komediji zabune\, pokušavaju rasplesti često nerazrešive čvorove turbulentne životne situacije. Priča je to i o varljivom pitanju o bogomdanoj sreći u slatkom varljivom zovu boljeg sveta. O pojedincu koji je u igrama svetskih prekrajanja tek statista. “Svadbena zvona” se oslanjaju na složene karaktere i jaku glumačku igru\, sa nizom maštovitih i dinamičkih obrta.
URL:https://ckvladadivljan.rs/wp/event/komad-svadbena-zvona/
ATTACH;FMTTYPE=image/jpeg:https://ckvladadivljan.rs/wp/wp-content/uploads/2025/11/1000032866.jpg
END:VEVENT
END:VCALENDAR