BEGIN:VCALENDAR
VERSION:2.0
PRODID:-//Centar za kulturu Vlada Divljan - ECPv6.15.20//NONSGML v1.0//EN
CALSCALE:GREGORIAN
METHOD:PUBLISH
X-ORIGINAL-URL:https://ckvladadivljan.rs/wp
X-WR-CALDESC:Events for Centar za kulturu Vlada Divljan
REFRESH-INTERVAL;VALUE=DURATION:PT1H
X-Robots-Tag:noindex
X-PUBLISHED-TTL:PT1H
BEGIN:VTIMEZONE
TZID:UTC
BEGIN:STANDARD
TZOFFSETFROM:+0000
TZOFFSETTO:+0000
TZNAME:UTC
DTSTART:20240101T000000
END:STANDARD
END:VTIMEZONE
BEGIN:VEVENT
DTSTART;TZID=UTC:20250918T080000
DTEND;TZID=UTC:20251215T170000
DTSTAMP:20260423T154634
CREATED:20251012T212432Z
LAST-MODIFIED:20251012T212432Z
UID:2923-1758182400-1765818000@ckvladadivljan.rs
SUMMARY:Izložba „MARILYN“
DESCRIPTION:Trajanje izložbe: 18.09 – 15.12.2025.\nCentar za kulturu „Vlada Divljan“\nVlasnik kolekcije: Nebojša Bošnjak \nU Centru za kulturu „Vlada Divljan“ otvara se jedinstvena izložba posvećena Marilin Monro – ikoni lepote\, stila i filma.\nNa izložbi ćete moći da vidite deo bogate kolekcije fotografija\, plakata i slika iz celog sveta.\nSvoje radove izlažu umetnici iz Holandije\, Francuske i Srbije\, a među autorima fotografija i plakata su Bert Sterna\, Tom Kelly\, Otto Bettmann\, Geleng\, Grennsson i Bourdouge. \nDođite i otkrijte magiju „MARILYN“ – zvezde koja i danas inspiriše umetnike i publiku širom sveta! \nVaš\nCentar za kulturu „Vlada Divljan“
URL:https://ckvladadivljan.rs/wp/event/izlozba-marilyn/
ATTACH;FMTTYPE=image/jpeg:https://ckvladadivljan.rs/wp/wp-content/uploads/2025/10/plakat-PRINT.jpg
END:VEVENT
BEGIN:VEVENT
DTSTART;TZID=UTC:20251206T120000
DTEND;TZID=UTC:20251206T170000
DTSTAMP:20260423T154634
CREATED:20251203T180533Z
LAST-MODIFIED:20251203T180533Z
UID:3250-1765022400-1765040400@ckvladadivljan.rs
SUMMARY:Predstava za decu „Šašavi bluz“
DESCRIPTION:06. decembar u 12:00 \nPodela besplatnih karata: 03. i 04. decembar od 10 do 18 časova na biletarnici Centra. \nNastala po motivima teksta Duška Radovića na duhovit i razigran način otkriva deci – ali i odraslima – ko je „kriv” što se govore ružne reči i zašto ih ne treba koristiti. \nU ovoj šaljivoj i poučnoj priči pratićete princezu Katarinu\, malog princa Leopolda\, mudru dadilju\, kuvaricu Margaritu\, kraljevskog oficira\, starog Barnabasa i Zmaja Klaudija – sve u potrazi za jednom jedinom rečju koja je uzburkala čitavo kraljevstvo: ŠAŠAV.Dinamična\, duhovita\, muzički bogata i puna urnebesnih koreografija – predstava koja će oduševiti publiku svih uzrasta.
URL:https://ckvladadivljan.rs/wp/event/predstava-za-decu-sasavi-bluz/
ATTACH;FMTTYPE=image/jpeg:https://ckvladadivljan.rs/wp/wp-content/uploads/2025/12/IMG-01e004ca79a3db5546185504d61d1436-V.jpg
END:VEVENT
BEGIN:VEVENT
DTSTART;TZID=UTC:20251206T170000
DTEND;TZID=UTC:20251206T200000
DTSTAMP:20260423T154634
CREATED:20251201T215217Z
LAST-MODIFIED:20251201T215217Z
UID:3245-1765040400-1765051200@ckvladadivljan.rs
SUMMARY:„Krcko Oraščić i magična flauta“
DESCRIPTION:06.12.2025 u 17:00 \nCena karte 300 rsd. \nNa Badnje veče\, mlada devojka Marija poželeće da se vrati u detinjstvo i želja će joj se nekim čudom ostvariti! Ona se smanjuje na veličinu svojih starih igračaka koje će tom prilikom oživeti. Drveni lutak Krcko Oraščić se pretvara u prelepog princa Đorđa\, koga je u drvenu lutku tužnog lica pretvorila zla kraljica pacova. U ovoj božićnoj animiranoj avanturi Marija\, Đorđe i njihovi prijatelji igračke krenuće na put u čarobnu Zemlju cveća sa ciljem da spasu svet od zlih ljudi pacova…
URL:https://ckvladadivljan.rs/wp/event/krcko-orascic-i-magicna-flauta/
ATTACH;FMTTYPE=image/jpeg:https://ckvladadivljan.rs/wp/wp-content/uploads/2025/12/IMG-3e8bb12a54563d35a7e6f452c263eaba-V-1.jpg
END:VEVENT
END:VCALENDAR