BEGIN:VCALENDAR
VERSION:2.0
PRODID:-//Centar za kulturu Vlada Divljan - ECPv6.15.20//NONSGML v1.0//EN
CALSCALE:GREGORIAN
METHOD:PUBLISH
X-ORIGINAL-URL:https://ckvladadivljan.rs/wp
X-WR-CALDESC:Events for Centar za kulturu Vlada Divljan
REFRESH-INTERVAL;VALUE=DURATION:PT1H
X-Robots-Tag:noindex
X-PUBLISHED-TTL:PT1H
BEGIN:VTIMEZONE
TZID:UTC
BEGIN:STANDARD
TZOFFSETFROM:+0000
TZOFFSETTO:+0000
TZNAME:UTC
DTSTART:20240101T000000
END:STANDARD
END:VTIMEZONE
BEGIN:VEVENT
DTSTART;TZID=UTC:20251220T170000
DTEND;TZID=UTC:20251220T200000
DTSTAMP:20260423T154710
CREATED:20251215T161525Z
LAST-MODIFIED:20251215T161525Z
UID:3352-1766250000-1766260800@ckvladadivljan.rs
SUMMARY:Animirani film "Vreme je za sankanje"
DESCRIPTION:20.12. u 17:00 \nCena karte 300 rsd. \nFića i njegov tim su pred novim izazovom. Spremaju sezatakmičenja u sankanju a glavni protivnici su mu misteriozni Zoki i njegova rođaka – lepa\, ali snažna Čarna. Fića je specijalno za trku konstruisao fantastične sanke\, ali se one u prvoj trci raspadnu malo pre linije cilja. To je težak gubitak za Fiću koji se ne miri sa činjenicom da je možda napravio grešku u konstrukciji ili daje strategija trke bila promašaj. Zajedno sa svojim prijateljima otkriva da je Zoki varao da bi se domogao pobede. Fića zahteva revanš trku… Zoki naravno pristaje\, pod uslovom da Fića napravi novu pistu za trku. Kada je sa drugovima napravio spektakularnu trasu\, Zoki je shvatio da sa Fićom nema šale\, i počinje da smišlja nove smicalice. Dok se spremaju za novu trku Zoki je obezbedio sve podvale da bi dobio trku. Ali i Fića sa svojim driugarima ima nekoliko jakih iznenađenja za njega.
URL:https://ckvladadivljan.rs/wp/event/animirani-film-vreme-je-za-sankanje/
ATTACH;FMTTYPE=image/jpeg:https://ckvladadivljan.rs/wp/wp-content/uploads/2025/12/1000034149-scaled.jpg
END:VEVENT
END:VCALENDAR