BEGIN:VCALENDAR
VERSION:2.0
PRODID:-//Centar za kulturu Vlada Divljan - ECPv6.15.20//NONSGML v1.0//EN
CALSCALE:GREGORIAN
METHOD:PUBLISH
X-ORIGINAL-URL:https://ckvladadivljan.rs/wp
X-WR-CALDESC:Events for Centar za kulturu Vlada Divljan
REFRESH-INTERVAL;VALUE=DURATION:PT1H
X-Robots-Tag:noindex
X-PUBLISHED-TTL:PT1H
BEGIN:VTIMEZONE
TZID:UTC
BEGIN:STANDARD
TZOFFSETFROM:+0000
TZOFFSETTO:+0000
TZNAME:UTC
DTSTART:20240101T000000
END:STANDARD
END:VTIMEZONE
BEGIN:VEVENT
DTSTART;TZID=UTC:20251223T200000
DTEND;TZID=UTC:20251223T220000
DTSTAMP:20260423T155912
CREATED:20251215T163038Z
LAST-MODIFIED:20251215T163038Z
UID:3356-1766520000-1766527200@ckvladadivljan.rs
SUMMARY:Koncert – Novogodišnji muzički vatromet
DESCRIPTION:decembar u 20:00\n\nPodela besplatnih karata: 18. i 19.12. na biletarnici Centra od 10:00 do 18:00 \nDođite da uživate u svetskim muzičkim biserima – evergrin muzika\, ruske i španske romanse\, italijanske kancone! \nU izvođenju operskih solista Narodnog pozorišta: \nMecosopran : Anastasija Pavlović \nBariton : Stefan Pavlović \nKlavirska pratnja: Nevena Živković \nMuzika koja spaja klasično i popularno – veče za pamćenje!
URL:https://ckvladadivljan.rs/wp/event/koncert-novogodisnji-muzicki-vatromet/
ATTACH;FMTTYPE=image/jpeg:https://ckvladadivljan.rs/wp/wp-content/uploads/2025/12/unnamed-4.jpg
END:VEVENT
END:VCALENDAR