BEGIN:VCALENDAR
VERSION:2.0
PRODID:-//Centar za kulturu Vlada Divljan - ECPv6.15.20//NONSGML v1.0//EN
CALSCALE:GREGORIAN
METHOD:PUBLISH
X-ORIGINAL-URL:https://ckvladadivljan.rs/wp
X-WR-CALDESC:Events for Centar za kulturu Vlada Divljan
REFRESH-INTERVAL;VALUE=DURATION:PT1H
X-Robots-Tag:noindex
X-PUBLISHED-TTL:PT1H
BEGIN:VTIMEZONE
TZID:UTC
BEGIN:STANDARD
TZOFFSETFROM:+0000
TZOFFSETTO:+0000
TZNAME:UTC
DTSTART:20240101T000000
END:STANDARD
END:VTIMEZONE
BEGIN:VEVENT
DTSTART;TZID=UTC:20251227T120000
DTEND;TZID=UTC:20251227T150000
DTSTAMP:20260423T155911
CREATED:20251222T200951Z
LAST-MODIFIED:20251222T200951Z
UID:3386-1766836800-1766847600@ckvladadivljan.rs
SUMMARY:"VELIKA NOVOGODIŠNJA ČAROLIJA'
DESCRIPTION:Po motivima Andersenove bajke i crtanog filma „Zaleđeno kraljevstvo’ \nPremijera : 27. decembar u 12:00 \nPodela besplatnih karata: 25 i 26. decembar od 10:00 do 18:00 na biletarnici Centra \nTrajanje : 55 minuta \nProdukcija : Centar za kulturu „Vlad Divljan’ \nRadnja predstave se odvija u gradu Arendelu. Elza princeza Arendela\, poseduje posebne natprirodne moći da sve što poželi pretvori u led. \nAna mlaća sestra princeze Elze je neustrašivi optimista\, i želi na svaki način da pomogne sestri Elzi da prokletstvo koje ona posedujє prestane. \nPrinc Hans\, koіi je zao\, ljubomoran i po svaku cenu želi da oženi princezu Anu. \nKristof prodavac leda\, takoće se bori da osvoji Anino srce \nSneško Olaf\, urnebesno smešan\, pozitivan\, dobar i \nsve likove na dvoru zasmejava do suza Svi likovi tokom predstave animiraju decu kroz pozorišnu akciju i zajedno sa njima pomažu princezi Ani da se odbrani od zla. \nInterakcija izmeću glumaca i publike ostavlja snažan utisak na dečiіu maštu i ponašanje \nPobeda dobrog nad zlim\, razvijanje timskog duha\, kas i snaga sestrinske ljubavi \,glavne su poruke pozorišne predstave. \n  \nUpoznajte \nElzu – Jovana Petronijević \nAnu — Anćela Kuzmanović \nKristofa – Davor Perunović \nHansa i Olafa – Jovan Ljubenović \nTekst i režiіa: Nina Grahovac \nKostim i scena: Maja Stanković \nMuzika : Duca \nVaš \nCentar za kulturu „Vlada Divljan“
URL:https://ckvladadivljan.rs/wp/event/velika-novogodisnja-carolija/
ATTACH;FMTTYPE=image/jpeg:https://ckvladadivljan.rs/wp/wp-content/uploads/2025/12/IMG-a047d272866fa4405277992dd9e3dc25-V.jpg
END:VEVENT
BEGIN:VEVENT
DTSTART;TZID=UTC:20251227T170000
DTEND;TZID=UTC:20251227T190000
DTSTAMP:20260423T155911
CREATED:20251224T140340Z
LAST-MODIFIED:20251224T140340Z
UID:3391-1766854800-1766862000@ckvladadivljan.rs
SUMMARY:Film za decu
DESCRIPTION:„Deda Mraz i kompanija – Najveća novogodišnja avantura“ stiže na veliko platno! \nEpidemija je napala vilenjake\, a Deda Mraz kreće u misiju da spase Novu godinu! \nPuno smeha\, magije i prazničnog duha za celu porodicu! \n  \n\ndecembar\n\n17:00 \nCena karte: 300 RSD
URL:https://ckvladadivljan.rs/wp/event/film-za-decu/
ATTACH;FMTTYPE=image/jpeg:https://ckvladadivljan.rs/wp/wp-content/uploads/2025/12/IMG-253ac74a58bbd18cbc9a6a85c02aa171-V.jpg
END:VEVENT
END:VCALENDAR