BEGIN:VCALENDAR
VERSION:2.0
PRODID:-//Centar za kulturu Vlada Divljan - ECPv6.15.20//NONSGML v1.0//EN
CALSCALE:GREGORIAN
METHOD:PUBLISH
X-ORIGINAL-URL:https://ckvladadivljan.rs/wp
X-WR-CALDESC:Events for Centar za kulturu Vlada Divljan
REFRESH-INTERVAL;VALUE=DURATION:PT1H
X-Robots-Tag:noindex
X-PUBLISHED-TTL:PT1H
BEGIN:VTIMEZONE
TZID:UTC
BEGIN:STANDARD
TZOFFSETFROM:+0000
TZOFFSETTO:+0000
TZNAME:UTC
DTSTART:20250101T000000
END:STANDARD
END:VTIMEZONE
BEGIN:VEVENT
DTSTART;TZID=UTC:20260207T170000
DTEND;TZID=UTC:20260207T200000
DTSTAMP:20260423T021902
CREATED:20260202T180638Z
LAST-MODIFIED:20260202T180638Z
UID:3432-1770483600-1770494400@ckvladadivljan.rs
SUMMARY:„Manu Munja“
DESCRIPTION:„Manu Munja“ je sinhronizovana animirana avantura o malom\, ali hrabrom ptiću koji sanja da postane brz kao munja. Na putu ka ostvarenju svog sna\, Manu otkriva koliko su prijateljstvo\, hrabrost i vera u sebe važni – čak i onda kada svi sumnjaju. Film je pun humora\, emocija i uzbudljivih scena\, idealan za decu i celu porodicu. \n⏱️ Trajanje: 88 minuta\n📅 07.02. u 17:00\n🎟️ Karta: 400 RSD\n🕓 Prodaja karata počinje sat vremena pre početka projekcije
URL:https://ckvladadivljan.rs/wp/event/manu-munja/
ATTACH;FMTTYPE=image/jpeg:https://ckvladadivljan.rs/wp/wp-content/uploads/2026/02/MANU-MUNJA1.jpg
END:VEVENT
END:VCALENDAR