BEGIN:VCALENDAR
VERSION:2.0
PRODID:-//Centar za kulturu Vlada Divljan - ECPv6.15.20//NONSGML v1.0//EN
CALSCALE:GREGORIAN
METHOD:PUBLISH
X-WR-CALNAME:Centar za kulturu Vlada Divljan
X-ORIGINAL-URL:https://ckvladadivljan.rs/wp
X-WR-CALDESC:Events for Centar za kulturu Vlada Divljan
REFRESH-INTERVAL;VALUE=DURATION:PT1H
X-Robots-Tag:noindex
X-PUBLISHED-TTL:PT1H
BEGIN:VTIMEZONE
TZID:UTC
BEGIN:STANDARD
TZOFFSETFROM:+0000
TZOFFSETTO:+0000
TZNAME:UTC
DTSTART:20230101T000000
END:STANDARD
END:VTIMEZONE
BEGIN:VEVENT
DTSTART;TZID=UTC:20241228T120000
DTEND;TZID=UTC:20241228T150000
DTSTAMP:20260425T112426
CREATED:20241224T230452Z
LAST-MODIFIED:20241224T230545Z
UID:2366-1735387200-1735398000@ckvladadivljan.rs
SUMMARY:Crtani film "DEDA MRAZ SUPER HEROJ"
DESCRIPTION:Drugari\,\nSamo za vas\, i samo zbog vas u Centru za kulturu „Vlada Divljan“\, 28.decembra 2024.godine\, sa početkom u 12 časova\, možete pogledati crtani film „DEDA MRAZ~SUPER HEROJ“ \nŽanr: Animirani\n1 i 32min\nSinopsis:\nNakon što sasvim slučajno snažno udari glavom i pomisli da je superheroj\, Deda Mraz izaziva haos gde god da se pojavi i stigne. Pohlepni biznismen igračaka\, koristi priliku kako bi zauvek kontrolisao radionicu Deda Mraza. Ipak\, dok ne bude prekasno\, Mrazov pomoćnik\, vilenjak Leo i devojčica Bili\, pokušavaju da spasu Božić i Novu godinu. \nCena karte 300 rsd\nDobrodošli!\nVaš Centar za kulturu „Vlada Divljan“\n28.12.2024.godine\n12 časova\nCena karte 300 dinara\nMitropolita Petra 8
URL:https://ckvladadivljan.rs/wp/event/crtani-film-deda-mraz-super-heroj/
ATTACH;FMTTYPE=image/jpeg:https://ckvladadivljan.rs/wp/wp-content/uploads/2024/12/deda_mraz_super_heroj-e1735081477716.jpg
END:VEVENT
BEGIN:VEVENT
DTSTART;TZID=UTC:20241228T120000
DTEND;TZID=UTC:20241228T150000
DTSTAMP:20260425T112426
CREATED:20241224T225902Z
LAST-MODIFIED:20241224T230111Z
UID:2362-1735387200-1735398000@ckvladadivljan.rs
SUMMARY:Dečija predstava "Cipelice"
DESCRIPTION:U Centru za kulturu „Vlada Divljan“ \,28.12.2024.god. možete pogledati dečiju predstavu „Cipelice“\, sa početkom u 12 časova. Podela karata za ovu predstavu\, biće u (ponedeljak) na blagajni Centra 23.12.2024.godine od 10-20 časova.Siromašna devojčica Brankica u izlogu radnje ugleda crvene cipelice koje ne može da kupi\, na nagovor Zloće pada u iskušenje da do njih dođe tako što će da ih ukrade. Da li će Zloća uspeti u onome što je naumio ili će Dobrica i Brankica pobediti zlo otkrićete ako pogledate ovu predstavu.\nVečita borba dobra i zla glavna je tema ove priče koja je ispričana na duhovit način.\nPredstava je prožeta originalnim songovima koje glumci uživo pevaju na sceni. \nTekst i režija Lazar Dubovac\nIgraju: Jovan Stanković\, Nikola Todorović\, Anja Dinić \n28.12.2024.god.\nPodela karata 23.12. od 10-20 časova 2024.godine.\n12 časova\nMitropolita Petra 8 \nDobrodošli.
URL:https://ckvladadivljan.rs/wp/event/decija-predstava-cipelice/
ATTACH;FMTTYPE=image/jpeg:https://ckvladadivljan.rs/wp/wp-content/uploads/2024/12/cipelice_decija_poster-e1735081125810.jpg
END:VEVENT
BEGIN:VEVENT
DTSTART;TZID=UTC:20241227T200000
DTEND;TZID=UTC:20241227T200000
DTSTAMP:20260425T112426
CREATED:20241224T225127Z
LAST-MODIFIED:20241224T225127Z
UID:2360-1735329600-1735329600@ckvladadivljan.rs
SUMMARY:KRCKO ORAŠČIĆ
DESCRIPTION:Najpoznatiju zimsku bajku KRCKO ORAŠČIĆ izvešće studenti Instituta za umetničku igru i polaznici Kompanije Balet mladih premijerno 27. decembra na sceni Centra za kulturu Vlada Divljan s početkom u 19.00 časova. Publika će kroz priču djevojčice Klare\, koja na poklon dobija drvenog lutka\, doživeti sviet potpuno različit od našeg\, a prate je brojne avanture u zemlji šećera i snežnih vila. \nMuzika: Petar Iljič Čajkovski \nKoreografija: Aleksandar Ilić \nAdaptacija libreta prema originalnom libretu M. Petipa prema priči E.T.A. Hofmana u adaptaciji A. Dime: Žorž Draušnik \nCena karte: 600 dinara \nKarte možete rezervisati i kupiti pozivom na telefon:  011/4140 424 i 063/714-4201 \nDobrodošli.\nVaš Centar za kulturu „Vlada Divljan“.
URL:https://ckvladadivljan.rs/wp/event/krcko-orascic/
ATTACH;FMTTYPE=image/jpeg:https://ckvladadivljan.rs/wp/wp-content/uploads/2024/12/krcko_orascic_poster.jpg
END:VEVENT
BEGIN:VEVENT
DTSTART;TZID=UTC:20241226T200000
DTEND;TZID=UTC:20241226T220000
DTSTAMP:20260425T112426
CREATED:20241224T224845Z
LAST-MODIFIED:20241224T224845Z
UID:2358-1735243200-1735250400@ckvladadivljan.rs
SUMMARY:Koncert BETI ĐORĐEVIĆ
DESCRIPTION:26.12.2024.godine\, od 20:00 časova\, u Centru za kulturu „Vlada Divljan“\, možete uživati u koncertu legendarne Beti Đorđević.\nPozivamo vas na spektakularni Novogodišnji koncert\, pod nazivom “Potraži me u predgrađu“. Uživajmo uz najpoznatije evergrin\, džez i sving hitove. Zapevajmo pesme koje odolevaju vremenu\, zapevajmo pesme koje znamo! \nKoncert pod sloganom „Ime mi je ljubav“\, održaće se u četvrtak 26.12.2024.godine\, sa početkom od 20:00 časova. \nKarte po ceni od 600\,00 dinara mogu se kupiti ZA PARTER preko prodajne mreže https://tickets.rs/event/beti_dordevic_16416\nZa BALKON na blagajni Centra za kulturu“Vlada Divljan“ \nVaš Centar za kulturu“Vlada Divljan“ \nDobrodošli ! \n26.12.2024. godine u 20 časova!
URL:https://ckvladadivljan.rs/wp/event/koncert-beti-djordjevic/
ATTACH;FMTTYPE=image/jpeg:https://ckvladadivljan.rs/wp/wp-content/uploads/2024/12/beti_novi_plakat.jpg
END:VEVENT
BEGIN:VEVENT
DTSTART;TZID=UTC:20241225T190000
DTEND;TZID=UTC:20241225T200000
DTSTAMP:20260425T112426
CREATED:20180122T153851Z
LAST-MODIFIED:20241224T224454Z
UID:202-1735153200-1735156800@ckvladadivljan.rs
SUMMARY:Promocija knjige
DESCRIPTION:Centar za kulturu „Vlada Divljan“ organizuje promociju knjige Aleksandre Balaton biće održan 25.12.2024 sa početkom u 19 časova. Ulaz je slobodan
URL:https://ckvladadivljan.rs/wp/event/alter-ego/
ATTACH;FMTTYPE=image/jpeg:https://ckvladadivljan.rs/wp/wp-content/uploads/2018/01/1236863300.jpg
ORGANIZER;CN="Melissa Hunter":MAILTO:info@example.com
END:VEVENT
BEGIN:VEVENT
DTSTART;TZID=UTC:20241225T180000
DTEND;TZID=UTC:20241225T190000
DTSTAMP:20260425T112426
CREATED:20241224T193900Z
LAST-MODIFIED:20241224T230019Z
UID:2352-1735149600-1735153200@ckvladadivljan.rs
SUMMARY:Dečija predstava "Zvezda padalica"
DESCRIPTION:U Centru za kulturu „Vlada Divljan“ \,25.12.2024.god. možete pogledati dečiju predstavu „Zvezda padalica“\, sa početkom u 18 časova.Podela karata za ovu predstavu\, biće u (petak) na blagajni Centra 20.12.2024.godine od 10-20 časova.Devojčica Mirka koja je zbog svojih loših navika dobila nadimak Mirka Prljka je veoma nesrećna zbog toga\, ali se ni na jedan način ne trudi da se promeni. U školu dolazi novi učenik Mirko – lep\, dobar\, kulturan i uredan. Mirka shvata da Mirkovo srce nikada neće osvojiti ukoliko se ne promeni. U ovu priču svoje prste umešaće i Zveki – zvezda padalica i Ćira njegov asistent.\nOvo je zabavna i edukativna ekološka bajka koja će naučiti mališane kako se čuva priroda\, koja su pravila lepog ponašanja\, govora i pravilnog održavanja higijene.\nTekst Marija Puškarov\, režija Lazar Dubovac\nIgraju: Dunja Stanković\, Goran Bane Ivanović\, Luka Jovanović Dživdžanovski\, Uroš Papić. \n25.12. 2024.godine\nPočetak predstave 18 č\nPodela karata 20.12.(petak)2024.godine. \nMitropolita Petra 8
URL:https://ckvladadivljan.rs/wp/event/decija-predstava-zvezda-padalica/
ATTACH;FMTTYPE=image/jpeg:https://ckvladadivljan.rs/wp/wp-content/uploads/2018/01/zvezda_padalica_poster-e1735081204453.jpg
END:VEVENT
END:VCALENDAR