BEGIN:VCALENDAR
VERSION:2.0
PRODID:-//Centar za kulturu Vlada Divljan - ECPv6.15.20//NONSGML v1.0//EN
CALSCALE:GREGORIAN
METHOD:PUBLISH
X-WR-CALNAME:Centar za kulturu Vlada Divljan
X-ORIGINAL-URL:https://ckvladadivljan.rs/wp
X-WR-CALDESC:Events for Centar za kulturu Vlada Divljan
REFRESH-INTERVAL;VALUE=DURATION:PT1H
X-Robots-Tag:noindex
X-PUBLISHED-TTL:PT1H
BEGIN:VTIMEZONE
TZID:UTC
BEGIN:STANDARD
TZOFFSETFROM:+0000
TZOFFSETTO:+0000
TZNAME:UTC
DTSTART:20250101T000000
END:STANDARD
END:VTIMEZONE
BEGIN:VEVENT
DTSTART;TZID=UTC:20260425T190000
DTEND;TZID=UTC:20260425T220000
DTSTAMP:20260422T222528
CREATED:20260422T200733Z
LAST-MODIFIED:20260422T200733Z
UID:3739-1777143600-1777154400@ckvladadivljan.rs
SUMMARY:Film „STRANAC“
DESCRIPTION:25.04. u 19:00 \n400 RSD \nProdaja karata počinje sat vremena pre projekcije\, na biletarnici Centra za kulturu. \nRadnja filma smeštena je u Alžiru 1938. godine. \nMerso\, tihi i povučeni službenik u ranim tridesetim godinama\, prisustvuje sahrani svoje majke bez vidljivih emocija. Već narednog dana započinje bezbrižnu romansu sa Marijom\, koleginicom sa posla\, i nastavlja svoj uobičajeni životni ritam. Međutim\, njegovu svakodnevicu narušava komšija Rejmon Sintes\, uvlačeći ga u sumnjive situacije — sve dok jednog vrelog dana na plaži ne dođe do tragičnog događaja koji će promeniti sve.
URL:https://ckvladadivljan.rs/wp/event/film-stranac/
ATTACH;FMTTYPE=image/webp:https://ckvladadivljan.rs/wp/wp-content/uploads/2026/04/63425-stranac-su.webp
END:VEVENT
BEGIN:VEVENT
DTSTART;TZID=UTC:20260517T140000
DTEND;TZID=UTC:20260517T170000
DTSTAMP:20260422T222528
CREATED:20260415T201608Z
LAST-MODIFIED:20260415T201608Z
UID:3704-1779026400-1779037200@ckvladadivljan.rs
SUMMARY:Peti godišnji koncert Brodvej centra
DESCRIPTION:Plesni koncert Brodvej centra sa edukativnom predstavom „Stranice u pokretu” biće održan u nedelju\, 17. maja 2026. godine u 14:30 časova. \nTokom sezone 2025/26\, članovi Brodvej centra vredno su radili na koreografijama i kreativnim zadacima inspirisanim književnošću. Kroz igru\, pokret i glumu istraživali su svet knjiga\, sa ciljem da deca zavole čitanje i otkriju radost koju donosi mašta. \nPublika će na završnom koncertu imati priliku da uživa u koreografijama nastalim tokom sezone\, kao i u edukativnoj predstavi „Knjige koje niko nije čitao”\, koja podstiče razmišljanje o vrednosti zaboravljenih priča i knjiga koje čekaju da budu otkrivene. \nOvaj događaj poseban je i po tome što se obeležava mali jubilej – pet godina rada i peti koncert Brodvej centra. ✨ \n📅 17. maj 2026.\n🕝 14:30 časova \n📞 Info i rezervacije: 060/6923693 \nOrganizator događaja: Udruženje ljubitelja scenskih umetnosti Brodvej
URL:https://ckvladadivljan.rs/wp/event/peti-godisnji-koncert-brodvej-centra/
ATTACH;FMTTYPE=image/png:https://ckvladadivljan.rs/wp/wp-content/uploads/2026/04/СТРАНИЦЕ-У-ПОКРЕТУ.png
END:VEVENT
END:VCALENDAR