BEGIN:VCALENDAR
VERSION:2.0
PRODID:-//Centar za kulturu Vlada Divljan - ECPv6.15.20//NONSGML v1.0//EN
CALSCALE:GREGORIAN
METHOD:PUBLISH
X-ORIGINAL-URL:https://ckvladadivljan.rs/wp
X-WR-CALDESC:Events for Centar za kulturu Vlada Divljan
REFRESH-INTERVAL;VALUE=DURATION:PT1H
X-Robots-Tag:noindex
X-PUBLISHED-TTL:PT1H
BEGIN:VTIMEZONE
TZID:UTC
BEGIN:STANDARD
TZOFFSETFROM:+0000
TZOFFSETTO:+0000
TZNAME:UTC
DTSTART:20250101T000000
END:STANDARD
END:VTIMEZONE
BEGIN:VEVENT
DTSTART;TZID=UTC:20260418T190000
DTEND;TZID=UTC:20260418T220000
DTSTAMP:20260423T092146
CREATED:20260416T201319Z
LAST-MODIFIED:20260416T201319Z
UID:3712-1776538800-1776549600@ckvladadivljan.rs
SUMMARY:Film „PACIFIKCIJA“
DESCRIPTION:18.04. u 19:00 \n400 rsd. \nProdaja karata počinje sat vremena pre projekcije. \n„Pacifikcija” je politička drama i atmosferični triler reditelja Alberta Serre\, koji je premijerno prikazan na Kanskom festivalu. \nRadnja je smeštena na egzotičnom Tahitiju\, gde francuski zvaničnik De Roller pokušava da otkrije istinu iza misterioznih glasina o povratku nuklearnih testiranja. Film donosi napetu\, hipnotišuću atmosferu i vizuelno impresivne kadrove koji gledaoce drže u neizvesnosti do samog kraja. \nUloge:\nBenoît Magimel\, Pahoa Mahagafanau\, Marc Susini\, Matahi Pambrun \nRežija: Albert Serra\nTrajanje: 165 minuta (2h 45min) \nVidimo se u bioskopu \n 
URL:https://ckvladadivljan.rs/wp/event/film-pacifikcija/
ATTACH;FMTTYPE=image/jpeg:https://ckvladadivljan.rs/wp/wp-content/uploads/2026/04/IMG-67f75f4d6b8e49971002f0a92a6a416e-V1-scaled.jpg
END:VEVENT
BEGIN:VEVENT
DTSTART;TZID=UTC:20260419T120000
DTEND;TZID=UTC:20260419T150000
DTSTAMP:20260423T092146
CREATED:20260415T192520Z
LAST-MODIFIED:20260415T192520Z
UID:3690-1776600000-1776610800@ckvladadivljan.rs
SUMMARY:Pozorišna muzička predstava“Avanture Huan Pabla De Mehikana“
DESCRIPTION: 19.04. \n️ 12:00 \n Podela besplatnih karata 16. i 17.04. na biletarnici Centra od 10:00 do 18:00 \nOvo je interaktivna muzička predstava namenjena deci predškolskog i mlađeg školskog uzrasta. Huan Pablo je dečak koji zajedno sa svojim nerazdvojnim drugom Los Filiposom putuje svetom u potrazi za dobrim drugarima. Njih dvojica publici prepričavaju dogodovštine sa svojih putovanja i otkrivaju joj koje su sve drugare stekli na putovanjima. Uz to će tokom predstave\, zajedno sa publikom\, otpevati najveće dečije hitove. \nVreme trajanja 45 minuta.
URL:https://ckvladadivljan.rs/wp/event/pozorisna-muzicka-predstavaavanture-huan-pabla-de-mehikana/
ATTACH;FMTTYPE=image/jpeg:https://ckvladadivljan.rs/wp/wp-content/uploads/2026/04/IMG-6a623899082427e1651d6d4de74c204c-V.jpg
END:VEVENT
BEGIN:VEVENT
DTSTART;TZID=UTC:20260425T120000
DTEND;TZID=UTC:20260425T170000
DTSTAMP:20260423T092146
CREATED:20260422T200218Z
LAST-MODIFIED:20260422T200218Z
UID:3734-1777118400-1777136400@ckvladadivljan.rs
SUMMARY:Predstava za decu ’TUŽNO PAČE“
DESCRIPTION:25.04. \n12:00 \nPodela besplatnih karata 23. i  24.04. na biletarnici Centra od 10:00 do 18:00 \nPredstava Tužno pače je realizovana u saradnji sa Sekretarijatom za kulturu grada Beograda. Priča u sebi nosi veoma važne poruke o toleranciji\, drugarstvu i odrastanju. Malo pače\, Paja\, ima najboljeg druga\, petlića Peleta. Oni sanjaju o avanturama\, prave splav\, pomažu jedan drugom oko školskih zadataka i spremaju se za muzičko takmičenje. Ali njihovo prijateljstvo zamalo da upropasti tetka patka koja se lažno pretstavlja kao labud i ne želi da se Paja druži sa živinom. Dolazi Deda Patak sa sela da otkrije neke porodične tajne i urazumi tetku. Posle niza drmatičnih situacija svaki od junaka naše priče shvata da je poseban\, jedinstven i važan\, baš takav kakav je. \nTema koja je u osnovi ovog komada je od velike važnosti za razvoj i odrastanje dece. Bez obzira na to šta drugi ljudi misle ili kažu\, važno je da svako dete uvek zna da je jedinstveno. Bez obzira da li je neko visok\, nizak\, mršav\, debeo\, koju boju kože ima\, da li je pametan i u šta veruje\, važno je samo da je poseban i važan. Svako od nas ima priliku da uradi i postane šta god poželi i da pruži svoj doprinos svetu u kom živimo.
URL:https://ckvladadivljan.rs/wp/event/predstava-za-decu-tuzno-pace/
ATTACH;FMTTYPE=image/jpeg:https://ckvladadivljan.rs/wp/wp-content/uploads/2026/04/Screenshot_20260420_121054_PDF-Reader-1.jpg
END:VEVENT
BEGIN:VEVENT
DTSTART;TZID=UTC:20260425T170000
DTEND;TZID=UTC:20260425T180000
DTSTAMP:20260423T092146
CREATED:20260422T200549Z
LAST-MODIFIED:20260422T200607Z
UID:3737-1777136400-1777140000@ckvladadivljan.rs
SUMMARY:Film „MAŠA I MEDVEDI“ – ponovo na našem repertoaru!
DESCRIPTION:25. april \n17:00 \nCena karte: 400 RSD \nProdaja karata počinje sat vremena pre projekcije na biletarnici Centra za kulturu. \nZbog velikog interesovanja\, ponovo družimo se sa Mašom! Očekuje vas čarobna avantura ispunjena humorom\, uzbuđenjem i nežnim porukama o prijateljstvu i hrabrosti. Maša\, uz pomoć medveda i šumskih prijatelja\, kreće u misiju da spase svog brata – putovanje koje će oduševiti i mališane i odrasle. \nNe propustite priliku za još jedno porodično filmsko uživanje!
URL:https://ckvladadivljan.rs/wp/event/film-masa-i-medvedi-ponovo-na-nasem-repertoaru/
ATTACH;FMTTYPE=image/jpeg:https://ckvladadivljan.rs/wp/wp-content/uploads/2026/04/b5805a3203a8a.jpg
END:VEVENT
BEGIN:VEVENT
DTSTART;TZID=UTC:20260425T190000
DTEND;TZID=UTC:20260425T220000
DTSTAMP:20260423T092146
CREATED:20260422T200733Z
LAST-MODIFIED:20260422T200733Z
UID:3739-1777143600-1777154400@ckvladadivljan.rs
SUMMARY:Film „STRANAC“
DESCRIPTION:25.04. u 19:00 \n400 RSD \nProdaja karata počinje sat vremena pre projekcije\, na biletarnici Centra za kulturu. \nRadnja filma smeštena je u Alžiru 1938. godine. \nMerso\, tihi i povučeni službenik u ranim tridesetim godinama\, prisustvuje sahrani svoje majke bez vidljivih emocija. Već narednog dana započinje bezbrižnu romansu sa Marijom\, koleginicom sa posla\, i nastavlja svoj uobičajeni životni ritam. Međutim\, njegovu svakodnevicu narušava komšija Rejmon Sintes\, uvlačeći ga u sumnjive situacije — sve dok jednog vrelog dana na plaži ne dođe do tragičnog događaja koji će promeniti sve.
URL:https://ckvladadivljan.rs/wp/event/film-stranac/
ATTACH;FMTTYPE=image/webp:https://ckvladadivljan.rs/wp/wp-content/uploads/2026/04/63425-stranac-su.webp
END:VEVENT
BEGIN:VEVENT
DTSTART;TZID=UTC:20260517T140000
DTEND;TZID=UTC:20260517T170000
DTSTAMP:20260423T092146
CREATED:20260415T201608Z
LAST-MODIFIED:20260415T201608Z
UID:3704-1779026400-1779037200@ckvladadivljan.rs
SUMMARY:Peti godišnji koncert Brodvej centra
DESCRIPTION:Plesni koncert Brodvej centra sa edukativnom predstavom „Stranice u pokretu” biće održan u nedelju\, 17. maja 2026. godine u 14:30 časova. \nTokom sezone 2025/26\, članovi Brodvej centra vredno su radili na koreografijama i kreativnim zadacima inspirisanim književnošću. Kroz igru\, pokret i glumu istraživali su svet knjiga\, sa ciljem da deca zavole čitanje i otkriju radost koju donosi mašta. \nPublika će na završnom koncertu imati priliku da uživa u koreografijama nastalim tokom sezone\, kao i u edukativnoj predstavi „Knjige koje niko nije čitao”\, koja podstiče razmišljanje o vrednosti zaboravljenih priča i knjiga koje čekaju da budu otkrivene. \nOvaj događaj poseban je i po tome što se obeležava mali jubilej – pet godina rada i peti koncert Brodvej centra. ✨ \n📅 17. maj 2026.\n🕝 14:30 časova \n📞 Info i rezervacije: 060/6923693 \nOrganizator događaja: Udruženje ljubitelja scenskih umetnosti Brodvej
URL:https://ckvladadivljan.rs/wp/event/peti-godisnji-koncert-brodvej-centra/
ATTACH;FMTTYPE=image/png:https://ckvladadivljan.rs/wp/wp-content/uploads/2026/04/СТРАНИЦЕ-У-ПОКРЕТУ.png
END:VEVENT
END:VCALENDAR