BEGIN:VCALENDAR
VERSION:2.0
PRODID:-//Centar za kulturu Vlada Divljan - ECPv6.15.20//NONSGML v1.0//EN
CALSCALE:GREGORIAN
METHOD:PUBLISH
X-ORIGINAL-URL:https://ckvladadivljan.rs/wp
X-WR-CALDESC:Events for Centar za kulturu Vlada Divljan
REFRESH-INTERVAL;VALUE=DURATION:PT1H
X-Robots-Tag:noindex
X-PUBLISHED-TTL:PT1H
BEGIN:VTIMEZONE
TZID:UTC
BEGIN:STANDARD
TZOFFSETFROM:+0000
TZOFFSETTO:+0000
TZNAME:UTC
DTSTART:20240101T000000
END:STANDARD
END:VTIMEZONE
BEGIN:VEVENT
DTSTART;TZID=UTC:20250201T120000
DTEND;TZID=UTC:20250201T150000
DTSTAMP:20260424T065701
CREATED:20241224T231006Z
LAST-MODIFIED:20241224T231040Z
UID:2370-1738411200-1738422000@ckvladadivljan.rs
SUMMARY:Muzičko veče amatera "ALTER EGO"
DESCRIPTION:Subota\, 01. februar 2025. u 20h\nCentar za kulturu “Vlada Divljan”\, velika dvorana \nDa li u sebi krijete umetnika? \nDa li ste u slobodno vreme muzičar\, slikar ili pesnik? \nSada imate priliku da podelite svoj talenat sa svetom! \nPozivamo sve amaterske umetnike\, one čiji je umetnički izraz samo hobi\, da se prijave za učešće u programu „ALTER EGO“. \nNije važno da li stvarate muziku\, poeziju\, slike ili nešto drugo – važno je da to radite iz srca\, a ne iz profesije. \nKako se prijaviti? \nSnimite kratak video u kojem predstavljate svoj talenat i recite nekoliko rečenica o sebi i svom umetničkom izrazu.\nPošaljite prijavu na andjelko.zivkovic@ckvladadivljan.rs do 15.novembra 2024.god. \nUslovi za učešće: \nProgram je otvoren za sve umetnike amatera\, bez obzira na žanr. Uslov je da vam umetnost nije profesionalno zanimanje\, već strast koju negujete u slobodno vreme.\nUčesnici će biti raspoređeni po blokovima\, prema vrsti umetnosti koju predstavljaju. \nŠta možete očekivati? \nNajboljih deset prijavljenih umetnika biće odabrano da predstave svoj rad pred publikom.\nOrganizatori će se pobrinuti za sve tehničke uslove\, dok učesnici sami snose troškove puta i boravka. Sve ostalo – scena\, svetla\, publika – čeka na vas! \nNe propustite priliku da pokažete svoje ALTER EGO i iznenadite svet svojom kreativnošću! \nPrijavite se i postanite deo jedinstvenog umetničkog iskustva! \n“Da kultura ne izbledi – Učestvuj i pobedi”
URL:https://ckvladadivljan.rs/wp/event/muzicko-vece-amatera-alter-ego/
ATTACH;FMTTYPE=image/jpeg:https://ckvladadivljan.rs/wp/wp-content/uploads/2018/01/vizual_alterego-e1735081782248.jpg
END:VEVENT
END:VCALENDAR