BEGIN:VCALENDAR
VERSION:2.0
PRODID:-//Centar za kulturu Vlada Divljan - ECPv6.15.20//NONSGML v1.0//EN
CALSCALE:GREGORIAN
METHOD:PUBLISH
X-WR-CALNAME:Centar za kulturu Vlada Divljan
X-ORIGINAL-URL:https://ckvladadivljan.rs/wp
X-WR-CALDESC:Events for Centar za kulturu Vlada Divljan
REFRESH-INTERVAL;VALUE=DURATION:PT1H
X-Robots-Tag:noindex
X-PUBLISHED-TTL:PT1H
BEGIN:VTIMEZONE
TZID:UTC
BEGIN:STANDARD
TZOFFSETFROM:+0000
TZOFFSETTO:+0000
TZNAME:UTC
DTSTART:20240101T000000
END:STANDARD
END:VTIMEZONE
BEGIN:VEVENT
DTSTART;TZID=UTC:20250918T080000
DTEND;TZID=UTC:20251215T170000
DTSTAMP:20260423T191507
CREATED:20251012T212432Z
LAST-MODIFIED:20251012T212432Z
UID:2923-1758182400-1765818000@ckvladadivljan.rs
SUMMARY:Izložba „MARILYN“
DESCRIPTION:Trajanje izložbe: 18.09 – 15.12.2025.\nCentar za kulturu „Vlada Divljan“\nVlasnik kolekcije: Nebojša Bošnjak \nU Centru za kulturu „Vlada Divljan“ otvara se jedinstvena izložba posvećena Marilin Monro – ikoni lepote\, stila i filma.\nNa izložbi ćete moći da vidite deo bogate kolekcije fotografija\, plakata i slika iz celog sveta.\nSvoje radove izlažu umetnici iz Holandije\, Francuske i Srbije\, a među autorima fotografija i plakata su Bert Sterna\, Tom Kelly\, Otto Bettmann\, Geleng\, Grennsson i Bourdouge. \nDođite i otkrijte magiju „MARILYN“ – zvezde koja i danas inspiriše umetnike i publiku širom sveta! \nVaš\nCentar za kulturu „Vlada Divljan“
URL:https://ckvladadivljan.rs/wp/event/izlozba-marilyn/
ATTACH;FMTTYPE=image/jpeg:https://ckvladadivljan.rs/wp/wp-content/uploads/2025/10/plakat-PRINT.jpg
END:VEVENT
BEGIN:VEVENT
DTSTART;TZID=UTC:20251001T180000
DTEND;TZID=UTC:20251010T170000
DTSTAMP:20260423T191507
CREATED:20251003T150629Z
LAST-MODIFIED:20251003T150629Z
UID:2879-1759341600-1760115600@ckvladadivljan.rs
SUMMARY:Reprezentativna izložba i festival umetnika SLIKARI SRBIJE -VIP ART 2025.
DESCRIPTION:  \n                                         SLIKARI SRBIJE -VIP ART 2025. \n                                                     autori koncepta \n                                        Julija Ostojić i Goran Ostojić Vid \n                         Svečano otvaranje je 1 oktobra u 18h do 20h \n                     trajanje izložbe je od 01 oktobra do 10.oktobra 2025. \n  \nIzložba i festival Klasične interaktivne umetnosti -VIP ART-predstavlja novi pojam: Vizuelno interaktivno programiranje koje obuhvata aktivno učešće publike i autora u stvaranju intermedijalnog umetničkog dela\,art terapiju\,poeziju\,muziku i prozu koja je inspirisana i nastala na osnovu izloženih slika i obrnuto. Uživo transponovanje muzike\,poezije\,scenskog nastupa u likovnu umetnost .Određivanje odnosa izloženih radova koji definišu međusobnu energetsku povezanost i njihov uticaj na posmatrača.Perceptivna reakcija na elektro magnetno zračenje boje koje se multiplikuje usled harmonije prostornih vibracija većeg broja izloženih umetničkih dela. \nAnaliza društvene potrebe za umetnošću i definicija urođenog estetskog osećaja. \n  \nUčesnici u programu svečanog otvaranja izložbe : \nProgram svečanog otvaranja izložbe SLIKARI SRBIJE-VIP ART 2025 \nUčesnici u programu: \nPosle uvodne reči Gorana Ostojića Vida i predstavnika Centra za kulturu Vlada Divljan uslediće izvođenje programa. \nOlga Janković-kompozitorka.Autor više interdisciplinarnih prokjekata.Trenutno na doktorskim studijama na univerzitetu umetnosti u Beogradu.-Predviđeno je emitovanje autorskih kompozicija preko ozvučenja. \nAna Litrić – flauta \nMirko Milanović -tenor- repetoar-klasične muzike-Bočeli\,Karuzo.i zabavna muzika. \nDobrivoje Lazarević-poezija\,Poetsko društvo-Vid. \nGoran Ostojić Vid– poezija \,Predstavljanje VIP-a Vizulenog interaktivnog programiranja. \nLjubomir Dimitrijević -ansambl Renesanas Projektovanje video forme VIP ART-a-hronološki prikaz uz učešće publike. \nU okviru programa 7.oktobra biće predstavljena inovativna disciplina „Obaranje ruku monotipija“ autora akdemika Balše Rajčeviča i Gorana Ostojića Vid-a. \nNove discipline i autentične prakse su: \, VIP prezentacija \nsvih autora i njihovih dela na izložbi sa jedinstvenom dodelom nagrada u odnosu na život i delo umetnika. Uživo izvođenje  grupne  interaktivne komunikacije  upotrebom likovnih elemenata. \nPredstavljanje autorski zaštićenih inovativnih metoda u stvaranju i preoblikovanju sinteze različitih umetnosti VIP ARTA i sporta .Materijalizovana ideja koju ćemo aplicirati za ART EXPO 2027omogućava da Srbija može postati svetski značajna po inovacijama u interaktivnom spoju nauke\, igre i umetnosti realizacijom autorskih radova Gorana Ostojića Vid-a. \nPostavka slika kao zavrsnica umetničkog dela kroz međusobni odnos tih  izloženih artefakata \nformira energetsku transformaciju  prostora koja se ostvaruje simfoničnom orkestracijom istih. \nPitanja za učesnike izložbe: \nKako sagledavamo stvaralaštvo različitih profesija u odnosu na realnost umetničke scene? \nKoju vrstu potencijala nosi umetničko delo.? \nPercepcija i tumačenje kreativnog iskaza? \nPublika tj pojedinci će moći da popune VIP upitnike u toku trajanja izložbe da iznesu svoje stavove i \nimpresije o izloženim slikama. \nU realizacji Klasične interaktivne umetnosti-PRVI put primenjujemo VIP ART u cilju \nmultidisciplinarne analize stvarlačkog procesa. Konektovanjem stvaralaštva umetnika različitih umetnosti sinergijom teorije monokorda stvara se  ontogeneza  kreativnog čina… Širenje pozitivnih vibracija misli i osećanja\,očuvanja zdravog života i plemenitih vrednosti ka stvaranju novih postulata umetničkog izražavanja koji su zasnovani na klasičnom interaktivnom pristupu materijalizacije bez suvišne upotrebe tehnologije. \n  \nOsnovna premisa art istraživačkog pristupa je analitički metod naučnog sagledavanja kosmičkog \nprincipa o večnom prelasku energije iz jednog oblika u drugi  kroz vanvremenske pojavnosti različitih dimenzija postojanja \n. \nRealizacijom predviđenih aktivnosti u okviru navedene manifestacije javnim izvođenjem\, \nzakonom su zaštićena autorska prava „Klasične interaktivne umetnosti VIP ART-a“ autora koncepta : \nakademskih slikara Julije Ostojić i Gorana Ostojića Vida.
URL:https://ckvladadivljan.rs/wp/event/reprezentativna-izlozba-i-festival-umetnika-slikari-srbije-vip-art-2025/
ATTACH;FMTTYPE=image/jpeg:https://ckvladadivljan.rs/wp/wp-content/uploads/2025/10/unnamed-2.jpg
END:VEVENT
BEGIN:VEVENT
DTSTART;TZID=UTC:20251004T170000
DTEND;TZID=UTC:20251004T190000
DTSTAMP:20260423T191507
CREATED:20251003T152346Z
LAST-MODIFIED:20251003T152346Z
UID:2896-1759597200-1759604400@ckvladadivljan.rs
SUMMARY:U potrazi za čarobnom formulom
DESCRIPTION:U fantastičnom svetu iz mašte na planeti Ereji postoji ostrvo gde se život odvija u velikom okeanu. Sveža voda za piće je skoro izumrla\, pa je stoga najcenjenija imovina na planeti. Jednog dana tinejdžerka Dana biva umešana u gusarsko progonstvo za blagom koji će zauvek promeniti njen život\, poznaje putujući leteći cirkus i zaljubljuje se … Zajedno uspevaju da pobedi zlo i pronađu najdragocenije blago\, izvor slatke vode koji je dovoljno velik da obezbedi vodu celoj planeti.
URL:https://ckvladadivljan.rs/wp/event/u-potrazi-za-carobnom-formulom/
ATTACH;FMTTYPE=image/jpeg:https://ckvladadivljan.rs/wp/wp-content/uploads/2025/10/unnamed-3.jpg
END:VEVENT
BEGIN:VEVENT
DTSTART;TZID=UTC:20251005T170000
DTEND;TZID=UTC:20251005T190000
DTSTAMP:20260423T191507
CREATED:20251003T152102Z
LAST-MODIFIED:20251003T152102Z
UID:2894-1759683600-1759690800@ckvladadivljan.rs
SUMMARY:SRCE ISPOD HRASTA
DESCRIPTION:Održavanje predstave za decu \n05.10.2025  u 17:00 \nPodela besplatnih karata \n02.10. i 03.10. na biletarnici Centra od 10:00 do 16:00 \nSRCE ISPOD HRASTA \nDuboko ispod korenja najstarijeg Hrasta u drevnoj šumi kuca Srce sveta — tiho\, zaboravljeno\, ali još živo. Nekada su ljudi znali da ga čuju. Znali su da osluškuju zemlju\, da plešu sa vetrom\, da govore tiho kada ulaze u šumu. Znali su pesme koje leče i ritmove koji bude zvezde. \nAli došlo je vreme zaborava. Ljudi su se udaljili — od šume\, od prirode\, od sopstvenog srca. \nJednoga dana u šumu dolazi Mila\, devojčica iz grada\, vođena snom o drvetu koje plače. U tragovima lišća\, kamenja i vode pronalazi vrata ka zaboravljenim znanjima. Uz pomoć čudesnih bića — Sunčevog Glasnika\, razigranog leptira koji nosi radost u pokretu; Noćne Svetlucave\, mudre Sove koja čuva tajne zvezda; i Starog Hrasta\, čuvara vremena i snage — Mila kreće u potragu za Drevnim Ritmom. Onim koji spaja sve što diše\, cveta\, peva i šušti. \nDa bi ga pronašla\, mora proći kroz četiri prastare staze: Zemlje\, Vode\, Vetra i Plamena — i usput otkriti ne samo Drevni ritam sveta\, već i svoju sopstvenu pesmu. Onu koja leči. Onu koju niko drugi ne može otpevati umesto nje. Ali Senka — biće zaborava i sumnje — ide za njom… pokušavajući da utiša ono što je već na ivici nestanka. \n“Srce ispod Hrasta“ je dirljiva predstava o prirodi kao živoj celini\, o duši sveta i o ponovnom buđenju ravnoteže kroz pažnju\, osluškivanje i nežnost — najpre prema sebi\, a zatim prema svemu što nas okružuje.
URL:https://ckvladadivljan.rs/wp/event/srce-ispod-hrasta/
ATTACH;FMTTYPE=image/jpeg:https://ckvladadivljan.rs/wp/wp-content/uploads/2025/10/IMG-47b2f306b91b75702df4fa8db9bed75d-V.jpg
END:VEVENT
BEGIN:VEVENT
DTSTART;TZID=UTC:20251012T120000
DTEND;TZID=UTC:20251012T140000
DTSTAMP:20260423T191507
CREATED:20251003T151452Z
LAST-MODIFIED:20251010T085250Z
UID:2882-1760270400-1760277600@ckvladadivljan.rs
SUMMARY:"MAGIJA DOBROG SRCA"
DESCRIPTION:Datum održavanja predstave je 12. oktobar 2025. godine u 12:00 časova. \nPodela besplatnih karata biće organizovana 09. i 10. oktobra na biletarnici Centra\, u periodu od 10:00 do 18:00 časova.\nOpis:\n„MAGIJA DOBROG SRCA“\nPostoji jedna dolina koju ne možete pronaći ni na mapama\, ni u knjigama. Ona se otkriva samo onima koji veruju u čudo. Tu žive Mila Vila i njen verni pomoćnik Cvetko\, koji čuvaju tajnu najveće i najmoćnije čarolije na svetu. U toj čarobnoj dolini svako dete dobija poklon – ne od zlata\, već od ljubavi\, radosti i osmeha.\nAli jednog dana u dolinu stižu ćudljiva Cica\, koja želi sve samo za sebe\, i princ Zoćko\, koji je zaboravio da se smeje i igra.\nMože li se zatvoreno srce ponovo otvoriti? Može li izgubljeni osmeh ponovo da zasija?\nNakon niza komičnih i dirljivih događaja\, uz pomoć dece\, klovna Srećka i nestašnog Mićka\, Cica i Zoćko otkrivaju najveću moć – Magiju dobrog srca.\n“Magija dobrog srca“ je predstava puna igre\, smeha i nežnih poruka za decu i roditelje. Ona budi osmehe\, zagreva srca i podseća da su dobrota\, ljubav i hrabrost najjače sile jedne čarobne zemlje – i svakog našeg doma.
URL:https://ckvladadivljan.rs/wp/event/magija-dobrog-srca/
ATTACH;FMTTYPE=image/jpeg:https://ckvladadivljan.rs/wp/wp-content/uploads/2025/10/1000026333.jpg
END:VEVENT
BEGIN:VEVENT
DTSTART;TZID=UTC:20251017T200000
DTEND;TZID=UTC:20251017T220000
DTSTAMP:20260423T191507
CREATED:20251013T202710Z
LAST-MODIFIED:20251013T202710Z
UID:2933-1760731200-1760738400@ckvladadivljan.rs
SUMMARY:Cabaret VESELI MATORCI
DESCRIPTION:Održavanje predstave 17.10.2025 u 20:00 \nPodela besplatnih karata 15. i 16. 10.  od  10 :00 do 18:00 na biletarnici Centra \nAdaptacija i režija: Rade Vukotić \nGlumcu: Jelica Sretenović i Nenad Ćirić \nZRELI HUMOR ZA MLADU I ZRELU GOSPODU \nMatorac. To je onaj ko ima dosta godina\, ko je zašao u godine\, ko je prezreo – star (čovek). Gde je granica između zrele osobe i MATORCA.? Prezrelo voće može da bude i slađe od zrelog. Matorac ima životno iskustvo koje mnogo puta može i da pomogne onim mlađima. Slučajan susret gozpođe u zrelim godinama sa gospodinom takođe u zrelim godinama postane lepo druženje uz duhovita sećanja kako je bilo pre\, kako je sada i šta ih čeka sutra uz korisne savete za one mlade i nedozrele. I sve to začinjeno sa muzikom iz njihove mladosti.
URL:https://ckvladadivljan.rs/wp/event/cabaret-veseli-matorci/
ATTACH;FMTTYPE=image/jpeg:https://ckvladadivljan.rs/wp/wp-content/uploads/2025/10/IMG-66b30d739bd1fa199726d09ddb4b7b64-V.jpg
END:VEVENT
BEGIN:VEVENT
DTSTART;TZID=UTC:20251018T170000
DTEND;TZID=UTC:20251018T183000
DTSTAMP:20260423T191507
CREATED:20251013T204436Z
LAST-MODIFIED:20251013T204436Z
UID:2946-1760806800-1760812200@ckvladadivljan.rs
SUMMARY:Predstava za decu „Asteriks i Obeliks“
DESCRIPTION:Igranje predstave 18.10.2025 \nVreme 17:00 \nPodela besplatnih karata 16. i 17.10. Na biletarnici Centra od 10:00 do 18:00 \n  \nZanimljiva\,  edukativna\, zabavna i šarolika muzička komedija\, nastala po motivima stripa „Asteriks“\, namenjena je najmlađoj publici  uzrasta od 2. do 12. godine. Predstava sadrži zanimljivu scenografiju\, živopisne kostimime i maske\, kao i originalne songove i muziku. \nPored osnovnih likova iz stripa u predstavi se umesto Cezara pojavljuje strašna i grozna\, ali lepa Cezarica Julijana Mrgudić koja je odlučila da zabrani deci da se igraju i da sve igračke ovog sveta pripadaju samo njoj i nikom ništa neće da da. Naravno da joj smeta  malo Galsko selo\, pa odlučuje da natera vrača Kutlačiksa da joj oda tajnu čarobnog napitka da bi postala najjača na svetu i da sve bude njeno i samo njeno. \nPosle niza komičnih scena Julijana se zaljubljuje\, menja svoje prezime iz Mrgudić u Dobrić i saznaje da lepota nije najvažnija i da nije sramota kad neko nešto ne zna  već da je sramota kad neko neće da uči.
URL:https://ckvladadivljan.rs/wp/event/predstava-za-decu-asteriks-i-obeliks/
ATTACH;FMTTYPE=image/jpeg:https://ckvladadivljan.rs/wp/wp-content/uploads/2025/10/1000028643.jpg
END:VEVENT
BEGIN:VEVENT
DTSTART;TZID=UTC:20251019T200000
DTEND;TZID=UTC:20251019T220000
DTSTAMP:20260423T191507
CREATED:20251013T203850Z
LAST-MODIFIED:20251013T203850Z
UID:2944-1760904000-1760911200@ckvladadivljan.rs
SUMMARY:Pozorišna predstava „Zaboravljeni“
DESCRIPTION:Igranje predstave 19.10.2025 \nVreme 20:00 \nPodela besplatnih karata 16.10. I 17.10. Na biletarnici Centra od 10:00 do 18:00 \nTekst potpisuje Zoran Mijaljević\, a dramatizaciju i režiju Jovan Ljubenović \nIgraju : Janko Cekić i Jovan Ljubenović. \nOva „klošarska melodrama“ je komad o dva prijatelja i njihovim sudbinama. Do juče su imali porodice\, kuće\, a sad se nalaze na ulici\, spavaju u parkovima na klupama\, ispod mosta\, na kartonima\, uglavnom pijani\, gladni… sanjaju o krevetu. Od života\, ostala su im sećanja\, priče iz njihovih života… pričane po ko zna koji put. Teše i brinu jedan o drugom\, svađaju se\, tuku… za njih ne važe nijedna ljudska prava\, i ne trabaju im\, jer nemaju ništa\, a imaju sve. Slobodni su!!! \nKroz dijalog ova dva čoveka\, naizgled komična\, prikazano je društvo u kome živimo.
URL:https://ckvladadivljan.rs/wp/event/pozorisna-predstava-zaboravljeni/
ATTACH;FMTTYPE=image/jpeg:https://ckvladadivljan.rs/wp/wp-content/uploads/2025/10/IMG-232f3e5bfa3a0fbd1e10c8a5273c439a-V.jpg
END:VEVENT
BEGIN:VEVENT
DTSTART;TZID=UTC:20251025T080000
DTEND;TZID=UTC:20251026T170000
DTSTAMP:20260423T191507
CREATED:20251015T184444Z
LAST-MODIFIED:20251015T184444Z
UID:2952-1761379200-1761498000@ckvladadivljan.rs
SUMMARY:XIV Otvoreno prvenstvo Srbije u kvizu
DESCRIPTION:Ovosezonsko Otvoreno prvenstvo Srbije u kvizingu održaće se 25. i 26. oktobra u Centru za kulturu „Vlada Divljan“ u Beogradu! \nDvodnevno takmičenje donosi mnogo uzbuđenja i izazova – proverite svoje znanje u raznim tematskim oblastima i dokažite da je vaš tim najbolji! \nBez obzira da li ste veteran kvizova ili početnik\, ovo je prilika da uživate u igri\, druženju i sjajnoj atmosferi sa ljubiteljima kvizova iz cele Srbije. \nViše informacija i prijave: https://www.ska.rs/event/xiv-otvoreno-prvenstvo-srbije-u-kvizu/
URL:https://ckvladadivljan.rs/wp/event/xiv-otvoreno-prvenstvo-srbije-u-kvizu/
ATTACH;FMTTYPE=image/jpeg:https://ckvladadivljan.rs/wp/wp-content/uploads/2025/10/FB_IMG_1760549901295.jpg
END:VEVENT
BEGIN:VEVENT
DTSTART;TZID=UTC:20251025T170000
DTEND;TZID=UTC:20251025T190000
DTSTAMP:20260423T191507
CREATED:20251006T204036Z
LAST-MODIFIED:20251021T212358Z
UID:2903-1761411600-1761418800@ckvladadivljan.rs
SUMMARY:TAFITI – PUSTINJSKA AVANTURA
DESCRIPTION:Prikazivanje 25.10.2025 u 17:00 \nCena karte: 300rsd. \nAnimirani film \nTAFITI – PUSTINJSKA AVANTURA \nTafiti je naučen da bude oprezan i da ne veruje drugim životinjama. Ali sve se menja kada upozna divlju svinju – slobodnog duha i drugačijeg pogleda na svet. Njihovo neočekivano prijateljstvo vodi ih u avanturu punu hrabrosti\, poverenja i otvorenosti. \nRadnja se odvija u Namibiji\, jednoj od najstarijih pustinja sveta. Zapanjujući pejzaži\, egzotične životinje i bogata kultura ovog regiona čine svaki kadar pravim vizuelnim putovanjem. \n“Tafiti – Pustinjska avantura” uči o toleranciji\, empatiji i međusobnom razumevanju. Glavna poruka: “Niko nije savršen\, i baš zato smo potrebni jedni drugima.” \nTopla\, duhovita i edukativna animacija koju deca obožavaju\, a roditelji cene – prava filmska poslastica za sve generacije!
URL:https://ckvladadivljan.rs/wp/event/tafiti-pustinjska-avantura/
ATTACH;FMTTYPE=image/jpeg:https://ckvladadivljan.rs/wp/wp-content/uploads/2025/10/IMG-e2b8fcee010e82aa06b07c2f4e579a8e-V.jpg
END:VEVENT
BEGIN:VEVENT
DTSTART;TZID=UTC:20251030T200000
DTEND;TZID=UTC:20251030T220000
DTSTAMP:20260423T191507
CREATED:20251013T202203Z
LAST-MODIFIED:20251013T202203Z
UID:2927-1761854400-1761861600@ckvladadivljan.rs
SUMMARY:KONCERT PAVAKA Specijalni gost: VEDIC FIRE
DESCRIPTION:Četvrtak\, 30. oktobar\n20h\nUlaz slobodan \nPrepustite se očaravajućoj atmosferi savremene duhovne muzike u kombinaciji sa moćnim izvođenjem drevnih Vedskih mantri. Uživajte u lepoti muških vokala praćenih umirujućim zvucima ambijentalne gitare i Indijskog harmonijuma. \n  \n 
URL:https://ckvladadivljan.rs/wp/event/koncert-pavaka-specijalni-gost-vedic-fire/
ATTACH;FMTTYPE=image/jpeg:https://ckvladadivljan.rs/wp/wp-content/uploads/2025/10/Pavaka-Koncert-foto-scaled.jpg
END:VEVENT
BEGIN:VEVENT
DTSTART;TZID=UTC:20251031T200000
DTEND;TZID=UTC:20251031T220000
DTSTAMP:20260423T191507
CREATED:20251023T190621Z
LAST-MODIFIED:20251023T190621Z
UID:3021-1761940800-1761948000@ckvladadivljan.rs
SUMMARY:Muž je kao čokolada
DESCRIPTION:Predstava je na repertoaru Centra 31.10. u 20 časova a podela karata će biti 29. i 30.10. na blagajni Centra u periodu od 10-18 časova. \nPredstava „Muž je kao čokolada“ \nProvedite fantastično urnebesno veče sa neponovljivom Vesnom Stanković. \nVeče posvećeno najvažnijim pitanjima u životu svake žene – Da li nam je muž zaista potreban? \nKoje sve funkcije muž obavlja u braku? Prednosti i mane prosečnog muža… Da li je muž kao otrov\, kao lek\, kao sirće\, kao pihtije\, ili kao čokolada? Vesna Stanković u ispovednoj formi\, na sopstvenom primeru\, od trenutka kad je krenula u potragu za mužem do svadbe na livadi sa 800 ljudi\, kao i na primeru svojih najbližih prijateljica\, daje odgovore na ova pitanja. \nStand up Vesne Stanković je duhovita ispovest o glumičinoj potrazi za mužem. Na jedan veoma šarmantan način\, glumica nas uvodi u svoj život\, na veoma zabavan način\, pripoveda o muškarcima koje je sretala na svom životnom putu\, da bi najzad došla do muža\, za koji ćemo tek na kraju predstave utvrditi da li je zaista kao čokolada. \nNamenjeno i ženama i muževima
URL:https://ckvladadivljan.rs/wp/event/muz-je-kao-cokolada/
ATTACH;FMTTYPE=image/jpeg:https://ckvladadivljan.rs/wp/wp-content/uploads/2025/10/1000029557.jpg
END:VEVENT
END:VCALENDAR